BEGIN:VCALENDAR
VERSION:2.0
PRODID:-//Hallsville Baptist Church - ECPv6.15.20//NONSGML v1.0//EN
CALSCALE:GREGORIAN
METHOD:PUBLISH
X-ORIGINAL-URL:https://hallsvillebaptist.com
X-WR-CALDESC:Events for Hallsville Baptist Church
REFRESH-INTERVAL;VALUE=DURATION:PT1H
X-Robots-Tag:noindex
X-PUBLISHED-TTL:PT1H
BEGIN:VTIMEZONE
TZID:America/Chicago
BEGIN:DAYLIGHT
TZOFFSETFROM:-0600
TZOFFSETTO:-0500
TZNAME:CDT
DTSTART:20230312T080000
END:DAYLIGHT
BEGIN:STANDARD
TZOFFSETFROM:-0500
TZOFFSETTO:-0600
TZNAME:CST
DTSTART:20231105T070000
END:STANDARD
BEGIN:DAYLIGHT
TZOFFSETFROM:-0600
TZOFFSETTO:-0500
TZNAME:CDT
DTSTART:20240310T080000
END:DAYLIGHT
BEGIN:STANDARD
TZOFFSETFROM:-0500
TZOFFSETTO:-0600
TZNAME:CST
DTSTART:20241103T070000
END:STANDARD
BEGIN:DAYLIGHT
TZOFFSETFROM:-0600
TZOFFSETTO:-0500
TZNAME:CDT
DTSTART:20250309T080000
END:DAYLIGHT
BEGIN:STANDARD
TZOFFSETFROM:-0500
TZOFFSETTO:-0600
TZNAME:CST
DTSTART:20251102T070000
END:STANDARD
END:VTIMEZONE
BEGIN:VEVENT
DTSTART;TZID=America/Chicago:20240602T091500
DTEND;TZID=America/Chicago:20240602T101500
DTSTAMP:20260422T033341
CREATED:20230403T021718Z
LAST-MODIFIED:20230403T021719Z
UID:10203313-1717319700-1717323300@hallsvillebaptist.com
SUMMARY:Sunday School Growth Groups
DESCRIPTION:All-aged Sunday School (the original small group) begins at 9:15 a.m. and finishes at 10:15 a.m. Come take part in Bible discussion\, prayer\, and encouragement!
URL:https://hallsvillebaptist.com/event/sunday-school-growth-groups/2024-06-02/
LOCATION:Hallsville Baptist Church\, 115 Elizabeth Street\, Hallsville\, 65255\, United States
GEO:39.117178;-92.2182726
X-APPLE-STRUCTURED-LOCATION;VALUE=URI;X-ADDRESS=Hallsville Baptist Church 115 Elizabeth Street Hallsville 65255 United States;X-APPLE-RADIUS=500;X-TITLE=115 Elizabeth Street:geo:-92.2182726,39.117178
END:VEVENT
BEGIN:VEVENT
DTSTART;TZID=America/Chicago:20240602T103000
DTEND;TZID=America/Chicago:20240602T113000
DTSTAMP:20260422T033341
CREATED:20230403T020838Z
LAST-MODIFIED:20230403T022540Z
UID:10203053-1717324200-1717327800@hallsvillebaptist.com
SUMMARY:Worship Services
DESCRIPTION:Congregation-wide worship service. Our Sunday morning worship service provides preaching and teaching from the inerrant Word of God\, along with a time of worship and praise to God through song. Our music service is a blended combination of Praise & Worship songs and traditional hymns. Nursery is provided during Sunday services. \nWith the current situation regarding COVID-19 and to abide by social distancing guidelines\, HBC is offering our weekly Sunday morning worship online. Please See Below: \nSee the Latest Sermon Here:\nhttps://hallsvillebaptist.com/sermons/
URL:https://hallsvillebaptist.com/event/worship-services/2024-06-02/
LOCATION:Hallsville Baptist Church\, 115 Elizabeth Street\, Hallsville\, 65255\, United States
GEO:39.117178;-92.2182726
X-APPLE-STRUCTURED-LOCATION;VALUE=URI;X-ADDRESS=Hallsville Baptist Church 115 Elizabeth Street Hallsville 65255 United States;X-APPLE-RADIUS=500;X-TITLE=115 Elizabeth Street:geo:-92.2182726,39.117178
END:VEVENT
BEGIN:VEVENT
DTSTART;TZID=America/Chicago:20240604T110000
DTEND;TZID=America/Chicago:20240604T150000
DTSTAMP:20260422T033341
CREATED:20230403T022339Z
LAST-MODIFIED:20230603T170035Z
UID:10203848-1717498800-1717513200@hallsvillebaptist.com
SUMMARY:Quilters Group
DESCRIPTION:Sewing/ Quilters Group – Meets in the Fellowship Hall.
URL:https://hallsvillebaptist.com/event/quilters-group/2024-06-04/
LOCATION:Hallsville Baptist Church\, 115 Elizabeth Street\, Hallsville\, 65255\, United States
GEO:39.117178;-92.2182726
X-APPLE-STRUCTURED-LOCATION;VALUE=URI;X-ADDRESS=Hallsville Baptist Church 115 Elizabeth Street Hallsville 65255 United States;X-APPLE-RADIUS=500;X-TITLE=115 Elizabeth Street:geo:-92.2182726,39.117178
END:VEVENT
BEGIN:VEVENT
DTSTART;TZID=America/Chicago:20240605T183000
DTEND;TZID=America/Chicago:20240605T193000
DTSTAMP:20260422T033341
CREATED:20230403T015647Z
LAST-MODIFIED:20240816T173705Z
UID:10202532-1717612200-1717615800@hallsvillebaptist.com
SUMMARY:Discipleship Groups
DESCRIPTION:
URL:https://hallsvillebaptist.com/event/discipleship-groups/2024-06-05/
LOCATION:Hallsville Baptist Church\, 115 Elizabeth Street\, Hallsville\, 65255\, United States
GEO:39.117178;-92.2182726
X-APPLE-STRUCTURED-LOCATION;VALUE=URI;X-ADDRESS=Hallsville Baptist Church 115 Elizabeth Street Hallsville 65255 United States;X-APPLE-RADIUS=500;X-TITLE=115 Elizabeth Street:geo:-92.2182726,39.117178
END:VEVENT
BEGIN:VEVENT
DTSTART;TZID=America/Chicago:20240605T183000
DTEND;TZID=America/Chicago:20240605T193000
DTSTAMP:20260422T033341
CREATED:20230403T015917Z
LAST-MODIFIED:20240816T173244Z
UID:10202793-1717612200-1717615800@hallsvillebaptist.com
SUMMARY:Children In Action
DESCRIPTION:
URL:https://hallsvillebaptist.com/event/children-in-action/2024-06-05/
LOCATION:Hallsville Baptist Church\, 115 Elizabeth Street\, Hallsville\, 65255\, United States
GEO:39.117178;-92.2182726
X-APPLE-STRUCTURED-LOCATION;VALUE=URI;X-ADDRESS=Hallsville Baptist Church 115 Elizabeth Street Hallsville 65255 United States;X-APPLE-RADIUS=500;X-TITLE=115 Elizabeth Street:geo:-92.2182726,39.117178
END:VEVENT
BEGIN:VEVENT
DTSTART;TZID=America/Chicago:20240609T091500
DTEND;TZID=America/Chicago:20240609T101500
DTSTAMP:20260422T033341
CREATED:20230403T021718Z
LAST-MODIFIED:20230403T021719Z
UID:10203314-1717924500-1717928100@hallsvillebaptist.com
SUMMARY:Sunday School Growth Groups
DESCRIPTION:All-aged Sunday School (the original small group) begins at 9:15 a.m. and finishes at 10:15 a.m. Come take part in Bible discussion\, prayer\, and encouragement!
URL:https://hallsvillebaptist.com/event/sunday-school-growth-groups/2024-06-09/
LOCATION:Hallsville Baptist Church\, 115 Elizabeth Street\, Hallsville\, 65255\, United States
GEO:39.117178;-92.2182726
X-APPLE-STRUCTURED-LOCATION;VALUE=URI;X-ADDRESS=Hallsville Baptist Church 115 Elizabeth Street Hallsville 65255 United States;X-APPLE-RADIUS=500;X-TITLE=115 Elizabeth Street:geo:-92.2182726,39.117178
END:VEVENT
BEGIN:VEVENT
DTSTART;TZID=America/Chicago:20240609T103000
DTEND;TZID=America/Chicago:20240609T113000
DTSTAMP:20260422T033341
CREATED:20230403T020838Z
LAST-MODIFIED:20230403T022540Z
UID:10203054-1717929000-1717932600@hallsvillebaptist.com
SUMMARY:Worship Services
DESCRIPTION:Congregation-wide worship service. Our Sunday morning worship service provides preaching and teaching from the inerrant Word of God\, along with a time of worship and praise to God through song. Our music service is a blended combination of Praise & Worship songs and traditional hymns. Nursery is provided during Sunday services. \nWith the current situation regarding COVID-19 and to abide by social distancing guidelines\, HBC is offering our weekly Sunday morning worship online. Please See Below: \nSee the Latest Sermon Here:\nhttps://hallsvillebaptist.com/sermons/
URL:https://hallsvillebaptist.com/event/worship-services/2024-06-09/
LOCATION:Hallsville Baptist Church\, 115 Elizabeth Street\, Hallsville\, 65255\, United States
GEO:39.117178;-92.2182726
X-APPLE-STRUCTURED-LOCATION;VALUE=URI;X-ADDRESS=Hallsville Baptist Church 115 Elizabeth Street Hallsville 65255 United States;X-APPLE-RADIUS=500;X-TITLE=115 Elizabeth Street:geo:-92.2182726,39.117178
END:VEVENT
BEGIN:VEVENT
DTSTART;TZID=America/Chicago:20240611T110000
DTEND;TZID=America/Chicago:20240611T150000
DTSTAMP:20260422T033341
CREATED:20230403T022339Z
LAST-MODIFIED:20230603T170035Z
UID:10203849-1718103600-1718118000@hallsvillebaptist.com
SUMMARY:Quilters Group
DESCRIPTION:Sewing/ Quilters Group – Meets in the Fellowship Hall.
URL:https://hallsvillebaptist.com/event/quilters-group/2024-06-11/
LOCATION:Hallsville Baptist Church\, 115 Elizabeth Street\, Hallsville\, 65255\, United States
GEO:39.117178;-92.2182726
X-APPLE-STRUCTURED-LOCATION;VALUE=URI;X-ADDRESS=Hallsville Baptist Church 115 Elizabeth Street Hallsville 65255 United States;X-APPLE-RADIUS=500;X-TITLE=115 Elizabeth Street:geo:-92.2182726,39.117178
END:VEVENT
BEGIN:VEVENT
DTSTART;TZID=America/Chicago:20240612T183000
DTEND;TZID=America/Chicago:20240612T193000
DTSTAMP:20260422T033341
CREATED:20230403T015647Z
LAST-MODIFIED:20240816T173705Z
UID:10202533-1718217000-1718220600@hallsvillebaptist.com
SUMMARY:Discipleship Groups
DESCRIPTION:
URL:https://hallsvillebaptist.com/event/discipleship-groups/2024-06-12/
LOCATION:Hallsville Baptist Church\, 115 Elizabeth Street\, Hallsville\, 65255\, United States
GEO:39.117178;-92.2182726
X-APPLE-STRUCTURED-LOCATION;VALUE=URI;X-ADDRESS=Hallsville Baptist Church 115 Elizabeth Street Hallsville 65255 United States;X-APPLE-RADIUS=500;X-TITLE=115 Elizabeth Street:geo:-92.2182726,39.117178
END:VEVENT
BEGIN:VEVENT
DTSTART;TZID=America/Chicago:20240612T183000
DTEND;TZID=America/Chicago:20240612T193000
DTSTAMP:20260422T033341
CREATED:20230403T015917Z
LAST-MODIFIED:20240816T173244Z
UID:10202794-1718217000-1718220600@hallsvillebaptist.com
SUMMARY:Children In Action
DESCRIPTION:
URL:https://hallsvillebaptist.com/event/children-in-action/2024-06-12/
LOCATION:Hallsville Baptist Church\, 115 Elizabeth Street\, Hallsville\, 65255\, United States
GEO:39.117178;-92.2182726
X-APPLE-STRUCTURED-LOCATION;VALUE=URI;X-ADDRESS=Hallsville Baptist Church 115 Elizabeth Street Hallsville 65255 United States;X-APPLE-RADIUS=500;X-TITLE=115 Elizabeth Street:geo:-92.2182726,39.117178
END:VEVENT
BEGIN:VEVENT
DTSTART;TZID=America/Chicago:20240616T091500
DTEND;TZID=America/Chicago:20240616T101500
DTSTAMP:20260422T033341
CREATED:20230403T021718Z
LAST-MODIFIED:20230403T021719Z
UID:10203315-1718529300-1718532900@hallsvillebaptist.com
SUMMARY:Sunday School Growth Groups
DESCRIPTION:All-aged Sunday School (the original small group) begins at 9:15 a.m. and finishes at 10:15 a.m. Come take part in Bible discussion\, prayer\, and encouragement!
URL:https://hallsvillebaptist.com/event/sunday-school-growth-groups/2024-06-16/
LOCATION:Hallsville Baptist Church\, 115 Elizabeth Street\, Hallsville\, 65255\, United States
GEO:39.117178;-92.2182726
X-APPLE-STRUCTURED-LOCATION;VALUE=URI;X-ADDRESS=Hallsville Baptist Church 115 Elizabeth Street Hallsville 65255 United States;X-APPLE-RADIUS=500;X-TITLE=115 Elizabeth Street:geo:-92.2182726,39.117178
END:VEVENT
BEGIN:VEVENT
DTSTART;TZID=America/Chicago:20240616T103000
DTEND;TZID=America/Chicago:20240616T113000
DTSTAMP:20260422T033341
CREATED:20230403T020838Z
LAST-MODIFIED:20230403T022540Z
UID:10203055-1718533800-1718537400@hallsvillebaptist.com
SUMMARY:Worship Services
DESCRIPTION:Congregation-wide worship service. Our Sunday morning worship service provides preaching and teaching from the inerrant Word of God\, along with a time of worship and praise to God through song. Our music service is a blended combination of Praise & Worship songs and traditional hymns. Nursery is provided during Sunday services. \nWith the current situation regarding COVID-19 and to abide by social distancing guidelines\, HBC is offering our weekly Sunday morning worship online. Please See Below: \nSee the Latest Sermon Here:\nhttps://hallsvillebaptist.com/sermons/
URL:https://hallsvillebaptist.com/event/worship-services/2024-06-16/
LOCATION:Hallsville Baptist Church\, 115 Elizabeth Street\, Hallsville\, 65255\, United States
GEO:39.117178;-92.2182726
X-APPLE-STRUCTURED-LOCATION;VALUE=URI;X-ADDRESS=Hallsville Baptist Church 115 Elizabeth Street Hallsville 65255 United States;X-APPLE-RADIUS=500;X-TITLE=115 Elizabeth Street:geo:-92.2182726,39.117178
END:VEVENT
BEGIN:VEVENT
DTSTART;TZID=America/Chicago:20240618T110000
DTEND;TZID=America/Chicago:20240618T150000
DTSTAMP:20260422T033341
CREATED:20230403T022339Z
LAST-MODIFIED:20230603T170035Z
UID:10203850-1718708400-1718722800@hallsvillebaptist.com
SUMMARY:Quilters Group
DESCRIPTION:Sewing/ Quilters Group – Meets in the Fellowship Hall.
URL:https://hallsvillebaptist.com/event/quilters-group/2024-06-18/
LOCATION:Hallsville Baptist Church\, 115 Elizabeth Street\, Hallsville\, 65255\, United States
GEO:39.117178;-92.2182726
X-APPLE-STRUCTURED-LOCATION;VALUE=URI;X-ADDRESS=Hallsville Baptist Church 115 Elizabeth Street Hallsville 65255 United States;X-APPLE-RADIUS=500;X-TITLE=115 Elizabeth Street:geo:-92.2182726,39.117178
END:VEVENT
BEGIN:VEVENT
DTSTART;TZID=America/Chicago:20240619T183000
DTEND;TZID=America/Chicago:20240619T193000
DTSTAMP:20260422T033341
CREATED:20230403T015647Z
LAST-MODIFIED:20240816T173705Z
UID:10202534-1718821800-1718825400@hallsvillebaptist.com
SUMMARY:Discipleship Groups
DESCRIPTION:
URL:https://hallsvillebaptist.com/event/discipleship-groups/2024-06-19/
LOCATION:Hallsville Baptist Church\, 115 Elizabeth Street\, Hallsville\, 65255\, United States
GEO:39.117178;-92.2182726
X-APPLE-STRUCTURED-LOCATION;VALUE=URI;X-ADDRESS=Hallsville Baptist Church 115 Elizabeth Street Hallsville 65255 United States;X-APPLE-RADIUS=500;X-TITLE=115 Elizabeth Street:geo:-92.2182726,39.117178
END:VEVENT
BEGIN:VEVENT
DTSTART;TZID=America/Chicago:20240619T183000
DTEND;TZID=America/Chicago:20240619T193000
DTSTAMP:20260422T033341
CREATED:20230403T015917Z
LAST-MODIFIED:20240816T173244Z
UID:10202795-1718821800-1718825400@hallsvillebaptist.com
SUMMARY:Children In Action
DESCRIPTION:
URL:https://hallsvillebaptist.com/event/children-in-action/2024-06-19/
LOCATION:Hallsville Baptist Church\, 115 Elizabeth Street\, Hallsville\, 65255\, United States
GEO:39.117178;-92.2182726
X-APPLE-STRUCTURED-LOCATION;VALUE=URI;X-ADDRESS=Hallsville Baptist Church 115 Elizabeth Street Hallsville 65255 United States;X-APPLE-RADIUS=500;X-TITLE=115 Elizabeth Street:geo:-92.2182726,39.117178
END:VEVENT
BEGIN:VEVENT
DTSTART;TZID=America/Chicago:20240622T083000
DTEND;TZID=America/Chicago:20240622T100000
DTSTAMP:20260422T033341
CREATED:20240129T205458Z
LAST-MODIFIED:20240129T205458Z
UID:10204153-1719045000-1719050400@hallsvillebaptist.com
SUMMARY:Men's Prayer Breakfast
DESCRIPTION:
URL:https://hallsvillebaptist.com/event/mens-prayer-breakfast-3/2024-06-22/
LOCATION:Hallsville Baptist Church\, 115 Elizabeth Street\, Hallsville\, 65255\, United States
GEO:39.117178;-92.2182726
X-APPLE-STRUCTURED-LOCATION;VALUE=URI;X-ADDRESS=Hallsville Baptist Church 115 Elizabeth Street Hallsville 65255 United States;X-APPLE-RADIUS=500;X-TITLE=115 Elizabeth Street:geo:-92.2182726,39.117178
END:VEVENT
BEGIN:VEVENT
DTSTART;TZID=America/Chicago:20240623T091500
DTEND;TZID=America/Chicago:20240623T101500
DTSTAMP:20260422T033341
CREATED:20230403T021718Z
LAST-MODIFIED:20230403T021719Z
UID:10203316-1719134100-1719137700@hallsvillebaptist.com
SUMMARY:Sunday School Growth Groups
DESCRIPTION:All-aged Sunday School (the original small group) begins at 9:15 a.m. and finishes at 10:15 a.m. Come take part in Bible discussion\, prayer\, and encouragement!
URL:https://hallsvillebaptist.com/event/sunday-school-growth-groups/2024-06-23/
LOCATION:Hallsville Baptist Church\, 115 Elizabeth Street\, Hallsville\, 65255\, United States
GEO:39.117178;-92.2182726
X-APPLE-STRUCTURED-LOCATION;VALUE=URI;X-ADDRESS=Hallsville Baptist Church 115 Elizabeth Street Hallsville 65255 United States;X-APPLE-RADIUS=500;X-TITLE=115 Elizabeth Street:geo:-92.2182726,39.117178
END:VEVENT
BEGIN:VEVENT
DTSTART;TZID=America/Chicago:20240623T103000
DTEND;TZID=America/Chicago:20240623T113000
DTSTAMP:20260422T033341
CREATED:20230403T020838Z
LAST-MODIFIED:20230403T022540Z
UID:10203056-1719138600-1719142200@hallsvillebaptist.com
SUMMARY:Worship Services
DESCRIPTION:Congregation-wide worship service. Our Sunday morning worship service provides preaching and teaching from the inerrant Word of God\, along with a time of worship and praise to God through song. Our music service is a blended combination of Praise & Worship songs and traditional hymns. Nursery is provided during Sunday services. \nWith the current situation regarding COVID-19 and to abide by social distancing guidelines\, HBC is offering our weekly Sunday morning worship online. Please See Below: \nSee the Latest Sermon Here:\nhttps://hallsvillebaptist.com/sermons/
URL:https://hallsvillebaptist.com/event/worship-services/2024-06-23/
LOCATION:Hallsville Baptist Church\, 115 Elizabeth Street\, Hallsville\, 65255\, United States
GEO:39.117178;-92.2182726
X-APPLE-STRUCTURED-LOCATION;VALUE=URI;X-ADDRESS=Hallsville Baptist Church 115 Elizabeth Street Hallsville 65255 United States;X-APPLE-RADIUS=500;X-TITLE=115 Elizabeth Street:geo:-92.2182726,39.117178
END:VEVENT
BEGIN:VEVENT
DTSTART;TZID=America/Chicago:20240625T110000
DTEND;TZID=America/Chicago:20240625T150000
DTSTAMP:20260422T033341
CREATED:20230403T022339Z
LAST-MODIFIED:20230603T170035Z
UID:10203851-1719313200-1719327600@hallsvillebaptist.com
SUMMARY:Quilters Group
DESCRIPTION:Sewing/ Quilters Group – Meets in the Fellowship Hall.
URL:https://hallsvillebaptist.com/event/quilters-group/2024-06-25/
LOCATION:Hallsville Baptist Church\, 115 Elizabeth Street\, Hallsville\, 65255\, United States
GEO:39.117178;-92.2182726
X-APPLE-STRUCTURED-LOCATION;VALUE=URI;X-ADDRESS=Hallsville Baptist Church 115 Elizabeth Street Hallsville 65255 United States;X-APPLE-RADIUS=500;X-TITLE=115 Elizabeth Street:geo:-92.2182726,39.117178
END:VEVENT
BEGIN:VEVENT
DTSTART;TZID=America/Chicago:20240626T183000
DTEND;TZID=America/Chicago:20240626T193000
DTSTAMP:20260422T033341
CREATED:20230403T015647Z
LAST-MODIFIED:20240816T173705Z
UID:10202535-1719426600-1719430200@hallsvillebaptist.com
SUMMARY:Discipleship Groups
DESCRIPTION:
URL:https://hallsvillebaptist.com/event/discipleship-groups/2024-06-26/
LOCATION:Hallsville Baptist Church\, 115 Elizabeth Street\, Hallsville\, 65255\, United States
GEO:39.117178;-92.2182726
X-APPLE-STRUCTURED-LOCATION;VALUE=URI;X-ADDRESS=Hallsville Baptist Church 115 Elizabeth Street Hallsville 65255 United States;X-APPLE-RADIUS=500;X-TITLE=115 Elizabeth Street:geo:-92.2182726,39.117178
END:VEVENT
BEGIN:VEVENT
DTSTART;TZID=America/Chicago:20240626T183000
DTEND;TZID=America/Chicago:20240626T193000
DTSTAMP:20260422T033341
CREATED:20230403T015917Z
LAST-MODIFIED:20240816T173244Z
UID:10202796-1719426600-1719430200@hallsvillebaptist.com
SUMMARY:Children In Action
DESCRIPTION:
URL:https://hallsvillebaptist.com/event/children-in-action/2024-06-26/
LOCATION:Hallsville Baptist Church\, 115 Elizabeth Street\, Hallsville\, 65255\, United States
GEO:39.117178;-92.2182726
X-APPLE-STRUCTURED-LOCATION;VALUE=URI;X-ADDRESS=Hallsville Baptist Church 115 Elizabeth Street Hallsville 65255 United States;X-APPLE-RADIUS=500;X-TITLE=115 Elizabeth Street:geo:-92.2182726,39.117178
END:VEVENT
BEGIN:VEVENT
DTSTART;TZID=America/Chicago:20240630T091500
DTEND;TZID=America/Chicago:20240630T101500
DTSTAMP:20260422T033341
CREATED:20230403T021718Z
LAST-MODIFIED:20230403T021719Z
UID:10203317-1719738900-1719742500@hallsvillebaptist.com
SUMMARY:Sunday School Growth Groups
DESCRIPTION:All-aged Sunday School (the original small group) begins at 9:15 a.m. and finishes at 10:15 a.m. Come take part in Bible discussion\, prayer\, and encouragement!
URL:https://hallsvillebaptist.com/event/sunday-school-growth-groups/2024-06-30/
LOCATION:Hallsville Baptist Church\, 115 Elizabeth Street\, Hallsville\, 65255\, United States
GEO:39.117178;-92.2182726
X-APPLE-STRUCTURED-LOCATION;VALUE=URI;X-ADDRESS=Hallsville Baptist Church 115 Elizabeth Street Hallsville 65255 United States;X-APPLE-RADIUS=500;X-TITLE=115 Elizabeth Street:geo:-92.2182726,39.117178
END:VEVENT
BEGIN:VEVENT
DTSTART;TZID=America/Chicago:20240630T103000
DTEND;TZID=America/Chicago:20240630T113000
DTSTAMP:20260422T033341
CREATED:20230403T020838Z
LAST-MODIFIED:20230403T022540Z
UID:10203057-1719743400-1719747000@hallsvillebaptist.com
SUMMARY:Worship Services
DESCRIPTION:Congregation-wide worship service. Our Sunday morning worship service provides preaching and teaching from the inerrant Word of God\, along with a time of worship and praise to God through song. Our music service is a blended combination of Praise & Worship songs and traditional hymns. Nursery is provided during Sunday services. \nWith the current situation regarding COVID-19 and to abide by social distancing guidelines\, HBC is offering our weekly Sunday morning worship online. Please See Below: \nSee the Latest Sermon Here:\nhttps://hallsvillebaptist.com/sermons/
URL:https://hallsvillebaptist.com/event/worship-services/2024-06-30/
LOCATION:Hallsville Baptist Church\, 115 Elizabeth Street\, Hallsville\, 65255\, United States
GEO:39.117178;-92.2182726
X-APPLE-STRUCTURED-LOCATION;VALUE=URI;X-ADDRESS=Hallsville Baptist Church 115 Elizabeth Street Hallsville 65255 United States;X-APPLE-RADIUS=500;X-TITLE=115 Elizabeth Street:geo:-92.2182726,39.117178
END:VEVENT
END:VCALENDAR