BEGIN:VCALENDAR
VERSION:2.0
PRODID:-//Hallsville Baptist Church - ECPv6.15.20//NONSGML v1.0//EN
CALSCALE:GREGORIAN
METHOD:PUBLISH
X-WR-CALNAME:Hallsville Baptist Church
X-ORIGINAL-URL:https://hallsvillebaptist.com
X-WR-CALDESC:Events for Hallsville Baptist Church
REFRESH-INTERVAL;VALUE=DURATION:PT1H
X-Robots-Tag:noindex
X-PUBLISHED-TTL:PT1H
BEGIN:VTIMEZONE
TZID:America/Chicago
BEGIN:DAYLIGHT
TZOFFSETFROM:-0600
TZOFFSETTO:-0500
TZNAME:CDT
DTSTART:20250309T080000
END:DAYLIGHT
BEGIN:STANDARD
TZOFFSETFROM:-0500
TZOFFSETTO:-0600
TZNAME:CST
DTSTART:20251102T070000
END:STANDARD
BEGIN:DAYLIGHT
TZOFFSETFROM:-0600
TZOFFSETTO:-0500
TZNAME:CDT
DTSTART:20260308T080000
END:DAYLIGHT
BEGIN:STANDARD
TZOFFSETFROM:-0500
TZOFFSETTO:-0600
TZNAME:CST
DTSTART:20261101T070000
END:STANDARD
BEGIN:DAYLIGHT
TZOFFSETFROM:-0600
TZOFFSETTO:-0500
TZNAME:CDT
DTSTART:20270314T080000
END:DAYLIGHT
BEGIN:STANDARD
TZOFFSETFROM:-0500
TZOFFSETTO:-0600
TZNAME:CST
DTSTART:20271107T070000
END:STANDARD
END:VTIMEZONE
BEGIN:VEVENT
DTSTART;TZID=America/Chicago:20260424T100000
DTEND;TZID=America/Chicago:20260424T110000
DTSTAMP:20260424T035013
CREATED:20250417T001844Z
LAST-MODIFIED:20250625T222221Z
UID:10204942-1777024800-1777028400@hallsvillebaptist.com
SUMMARY:Women's Bible Study
DESCRIPTION:
URL:https://hallsvillebaptist.com/event/womens-bible-study/2026-04-24/
LOCATION:Hallsville Baptist Church\, 115 Elizabeth Street\, Hallsville\, 65255\, United States
GEO:39.117178;-92.2182726
X-APPLE-STRUCTURED-LOCATION;VALUE=URI;X-ADDRESS=Hallsville Baptist Church 115 Elizabeth Street Hallsville 65255 United States;X-APPLE-RADIUS=500;X-TITLE=115 Elizabeth Street:geo:-92.2182726,39.117178
END:VEVENT
BEGIN:VEVENT
DTSTART;TZID=America/Chicago:20260424T180000
DTEND;TZID=America/Chicago:20260424T200000
DTSTAMP:20260424T035014
CREATED:20250417T003620Z
LAST-MODIFIED:20250417T003620Z
UID:10204680-1777053600-1777060800@hallsvillebaptist.com
SUMMARY:Game Night
DESCRIPTION:
URL:https://hallsvillebaptist.com/event/game-night/2026-04-24/
LOCATION:Hallsville Baptist Church\, 115 Elizabeth Street\, Hallsville\, 65255\, United States
GEO:39.117178;-92.2182726
X-APPLE-STRUCTURED-LOCATION;VALUE=URI;X-ADDRESS=Hallsville Baptist Church 115 Elizabeth Street Hallsville 65255 United States;X-APPLE-RADIUS=500;X-TITLE=115 Elizabeth Street:geo:-92.2182726,39.117178
END:VEVENT
BEGIN:VEVENT
DTSTART;TZID=America/Chicago:20260425T083000
DTEND;TZID=America/Chicago:20260425T100000
DTSTAMP:20260424T035014
CREATED:20240129T205458Z
LAST-MODIFIED:20240129T205458Z
UID:10204175-1777105800-1777111200@hallsvillebaptist.com
SUMMARY:Men's Prayer Breakfast
DESCRIPTION:
URL:https://hallsvillebaptist.com/event/mens-prayer-breakfast-3/2026-04-25/
LOCATION:Hallsville Baptist Church\, 115 Elizabeth Street\, Hallsville\, 65255\, United States
GEO:39.117178;-92.2182726
X-APPLE-STRUCTURED-LOCATION;VALUE=URI;X-ADDRESS=Hallsville Baptist Church 115 Elizabeth Street Hallsville 65255 United States;X-APPLE-RADIUS=500;X-TITLE=115 Elizabeth Street:geo:-92.2182726,39.117178
END:VEVENT
BEGIN:VEVENT
DTSTART;TZID=America/Chicago:20260426T091500
DTEND;TZID=America/Chicago:20260426T101500
DTSTAMP:20260424T035014
CREATED:20230403T021718Z
LAST-MODIFIED:20230403T021719Z
UID:10203412-1777194900-1777198500@hallsvillebaptist.com
SUMMARY:Sunday School Growth Groups
DESCRIPTION:All-aged Sunday School (the original small group) begins at 9:15 a.m. and finishes at 10:15 a.m. Come take part in Bible discussion\, prayer\, and encouragement!
URL:https://hallsvillebaptist.com/event/sunday-school-growth-groups/2026-04-26/
LOCATION:Hallsville Baptist Church\, 115 Elizabeth Street\, Hallsville\, 65255\, United States
GEO:39.117178;-92.2182726
X-APPLE-STRUCTURED-LOCATION;VALUE=URI;X-ADDRESS=Hallsville Baptist Church 115 Elizabeth Street Hallsville 65255 United States;X-APPLE-RADIUS=500;X-TITLE=115 Elizabeth Street:geo:-92.2182726,39.117178
END:VEVENT
BEGIN:VEVENT
DTSTART;TZID=America/Chicago:20260426T103000
DTEND;TZID=America/Chicago:20260426T113000
DTSTAMP:20260424T035014
CREATED:20230403T020838Z
LAST-MODIFIED:20230403T022540Z
UID:10203152-1777199400-1777203000@hallsvillebaptist.com
SUMMARY:Worship Services
DESCRIPTION:Congregation-wide worship service. Our Sunday morning worship service provides preaching and teaching from the inerrant Word of God\, along with a time of worship and praise to God through song. Our music service is a blended combination of Praise & Worship songs and traditional hymns. Nursery is provided during Sunday services. \nWith the current situation regarding COVID-19 and to abide by social distancing guidelines\, HBC is offering our weekly Sunday morning worship online. Please See Below: \nSee the Latest Sermon Here:\nhttps://hallsvillebaptist.com/sermons/
URL:https://hallsvillebaptist.com/event/worship-services/2026-04-26/
LOCATION:Hallsville Baptist Church\, 115 Elizabeth Street\, Hallsville\, 65255\, United States
GEO:39.117178;-92.2182726
X-APPLE-STRUCTURED-LOCATION;VALUE=URI;X-ADDRESS=Hallsville Baptist Church 115 Elizabeth Street Hallsville 65255 United States;X-APPLE-RADIUS=500;X-TITLE=115 Elizabeth Street:geo:-92.2182726,39.117178
END:VEVENT
BEGIN:VEVENT
DTSTART;TZID=America/Chicago:20260428T090000
DTEND;TZID=America/Chicago:20260428T100000
DTSTAMP:20260424T035014
CREATED:20241008T170203Z
LAST-MODIFIED:20241008T170434Z
UID:10204436-1777366800-1777370400@hallsvillebaptist.com
SUMMARY:Morning Prayer Group
DESCRIPTION:
URL:https://hallsvillebaptist.com/event/prayer-group/2026-04-28/
LOCATION:Hallsville Baptist Church\, 115 Elizabeth Street\, Hallsville\, 65255\, United States
GEO:39.117178;-92.2182726
X-APPLE-STRUCTURED-LOCATION;VALUE=URI;X-ADDRESS=Hallsville Baptist Church 115 Elizabeth Street Hallsville 65255 United States;X-APPLE-RADIUS=500;X-TITLE=115 Elizabeth Street:geo:-92.2182726,39.117178
END:VEVENT
BEGIN:VEVENT
DTSTART;TZID=America/Chicago:20260428T110000
DTEND;TZID=America/Chicago:20260428T150000
DTSTAMP:20260424T035014
CREATED:20230403T022339Z
LAST-MODIFIED:20230603T170035Z
UID:10203947-1777374000-1777388400@hallsvillebaptist.com
SUMMARY:Quilters Group
DESCRIPTION:Sewing/ Quilters Group – Meets in the Fellowship Hall.
URL:https://hallsvillebaptist.com/event/quilters-group/2026-04-28/
LOCATION:Hallsville Baptist Church\, 115 Elizabeth Street\, Hallsville\, 65255\, United States
GEO:39.117178;-92.2182726
X-APPLE-STRUCTURED-LOCATION;VALUE=URI;X-ADDRESS=Hallsville Baptist Church 115 Elizabeth Street Hallsville 65255 United States;X-APPLE-RADIUS=500;X-TITLE=115 Elizabeth Street:geo:-92.2182726,39.117178
END:VEVENT
BEGIN:VEVENT
DTSTART;TZID=America/Chicago:20260429T063000
DTEND;TZID=America/Chicago:20260429T193000
DTSTAMP:20260424T035014
CREATED:20251231T150700Z
LAST-MODIFIED:20251231T150700Z
UID:10205191-1777444200-1777491000@hallsvillebaptist.com
SUMMARY:Youth Group
DESCRIPTION:
URL:https://hallsvillebaptist.com/event/youth-group/2026-04-29/
LOCATION:Hallsville Baptist Church\, 115 Elizabeth Street\, Hallsville\, 65255\, United States
GEO:39.117178;-92.2182726
X-APPLE-STRUCTURED-LOCATION;VALUE=URI;X-ADDRESS=Hallsville Baptist Church 115 Elizabeth Street Hallsville 65255 United States;X-APPLE-RADIUS=500;X-TITLE=115 Elizabeth Street:geo:-92.2182726,39.117178
END:VEVENT
BEGIN:VEVENT
DTSTART;TZID=America/Chicago:20260429T183000
DTEND;TZID=America/Chicago:20260429T193000
DTSTAMP:20260424T035014
CREATED:20230403T015647Z
LAST-MODIFIED:20240816T173705Z
UID:10202631-1777487400-1777491000@hallsvillebaptist.com
SUMMARY:Discipleship Groups
DESCRIPTION:
URL:https://hallsvillebaptist.com/event/discipleship-groups/2026-04-29/
LOCATION:Hallsville Baptist Church\, 115 Elizabeth Street\, Hallsville\, 65255\, United States
GEO:39.117178;-92.2182726
X-APPLE-STRUCTURED-LOCATION;VALUE=URI;X-ADDRESS=Hallsville Baptist Church 115 Elizabeth Street Hallsville 65255 United States;X-APPLE-RADIUS=500;X-TITLE=115 Elizabeth Street:geo:-92.2182726,39.117178
END:VEVENT
BEGIN:VEVENT
DTSTART;TZID=America/Chicago:20260429T183000
DTEND;TZID=America/Chicago:20260429T193000
DTSTAMP:20260424T035014
CREATED:20230403T015917Z
LAST-MODIFIED:20240816T173244Z
UID:10202892-1777487400-1777491000@hallsvillebaptist.com
SUMMARY:Children In Action
DESCRIPTION:
URL:https://hallsvillebaptist.com/event/children-in-action/2026-04-29/
LOCATION:Hallsville Baptist Church\, 115 Elizabeth Street\, Hallsville\, 65255\, United States
GEO:39.117178;-92.2182726
X-APPLE-STRUCTURED-LOCATION;VALUE=URI;X-ADDRESS=Hallsville Baptist Church 115 Elizabeth Street Hallsville 65255 United States;X-APPLE-RADIUS=500;X-TITLE=115 Elizabeth Street:geo:-92.2182726,39.117178
END:VEVENT
END:VCALENDAR